BEGIN:VCALENDAR
VERSION:2.0
PRODID:icalendar-ruby
CALSCALE:GREGORIAN
METHOD:PUBLISH
BEGIN:VEVENT
DTSTAMP:20260422T060438Z
UID:2149700200
DTSTART:20260429T010000Z
DTEND:20260429T020000Z
CLASS:PUBLIC
DESCRIPTION:Free Marriage Master Class
LOCATION:https://us06web.zoom.us/j/82200925087?pwd=V0bUs8PGnLJRgkRYgPEccbl2
 f4dOmT.1
ORGANIZER;CN=:mailto:
SEQUENCE:1776837878
STATUS:CONFIRMED
SUMMARY:Free Marriage Master Class
END:VEVENT
END:VCALENDAR
